BEGIN:VCALENDAR
VERSION:2.0
PRODID:-//pretix//pretix.eu//
BEGIN:VTIMEZONE
TZID:Europe/Berlin
BEGIN:STANDARD
DTSTART:20001029T040000
RRULE:FREQ=YEARLY;BYDAY=-1SU;BYMONTH=10
TZNAME:CET
TZOFFSETFROM:+0200
TZOFFSETTO:+0100
END:STANDARD
BEGIN:DAYLIGHT
DTSTART:20000326T030000
RRULE:FREQ=YEARLY;BYDAY=-1SU;BYMONTH=3
TZNAME:CEST
TZOFFSETFROM:+0100
TZOFFSETTO:+0200
END:DAYLIGHT
END:VTIMEZONE
BEGIN:VEVENT
UID:pretix-svrk1962-1-mannschaftherren-4742441@svrk1962.vereinsticket.de
DTSTART;TZID=Europe/Berlin:20251103T173000
DTEND;TZID=Europe/Berlin:20251103T183000
DESCRIPTION:Tickets: https://svrk1962.vereinsticket.de/1-mannschaftherren/4
 742441/\nVeranstalter: SV Ruitsch-Kerben
DTSTAMP:20260419T173234Z
LOCATION:Sportplatz Ruitsch\, Hauptstraße 42\, 56751 Polch
SUMMARY:Bambiniturnier
END:VEVENT
END:VCALENDAR
